BEGIN:VCALENDAR
VERSION:2.0
PRODID:-//wp-events-plugin.com//7.2.3.1//EN
BEGIN:VEVENT
UID:1@bridgelawllp.com
DTSTART:20260423T180000Z
DTEND:20260423T200000Z
DTSTAMP:20260415T231946Z
URL:https://bridgelawllp.com/events/private-equity-the-practice-of-medicin
 e-ocma-legal-panel/
SUMMARY:Private Equity & The Practice of Medicine – OCMA Legal Panel
DESCRIPTION:Event Details\nDate: April 23\, 2026Hosted by: Orange County Me
 dical Association (OCMA)Format: In-person &amp\; Virtual (RSVP required)\n
 \nEvent Description\nBridge Law LLP is pleased to share that Partner Simon
  Khinda\, Esq.\, LL.M. will be speaking at an upcoming Orange County Medic
 al Association (OCMA) legal panel focused on the evolving role of private 
 equity in healthcare.\nAs private equity investment continues to reshape t
 he medical landscape\, physicians and healthcare professionals are increas
 ingly faced with complex legal and strategic decisions. This panel brings 
 together experienced legal professionals with deep expertise in healthcare
  transactions to provide clarity on these critical issues.\nDuring the ses
 sion\, the panel will explore:\n\n\n 	The structure of private equity tran
 sactions in healthcare\n 	Key legal considerations for physicians and medi
 cal practices\n 	Risks\, opportunities\, and long-term implications of pri
 vate equity partnerships\n 	Strategies for protecting professional autonom
 y and financial interests\n\nThis educational session is designed to help 
 physicians better understand the legal framework surrounding private equit
 y and make informed decisions about their practices.\n\n\n\n\nWho Should A
 ttend\nThis event is open to members of the OCMA\, CMA\, and other affilia
 ted medical associations\n\n\n\n\nRegistration Information\nAttendees may 
 register for either in-person or virtual participation.\n\n\n 	In-person R
 SVP deadline: April 20\n 	Virtual RSVP deadline: April 22\n\nSign up HERE\
 nAbout the Speaker\nSimon Khinda\, Esq.\, is a Partner at Bridge Law LLP\
 , advising clients on complex business and healthcare-related legal matter
 s\, including transactions\, structuring\, and regulatory compliance.
ATTACH;FMTTYPE=image/jpeg:https://bridgelawllp.com/wp-content/uploads/2026
 /04/unnamed.jpg
END:VEVENT
END:VCALENDAR